BEGIN:VCALENDAR
VERSION:2.0
PRODID:-//The Spot - ECPv6.15.20//NONSGML v1.0//EN
CALSCALE:GREGORIAN
METHOD:PUBLISH
X-ORIGINAL-URL:https://thespot.nl
X-WR-CALDESC:Evenementen voor The Spot
REFRESH-INTERVAL;VALUE=DURATION:PT1H
X-Robots-Tag:noindex
X-PUBLISHED-TTL:PT1H
BEGIN:VTIMEZONE
TZID:Europe/Paris
BEGIN:DAYLIGHT
TZOFFSETFROM:+0100
TZOFFSETTO:+0200
TZNAME:CEST
DTSTART:20240331T010000
END:DAYLIGHT
BEGIN:STANDARD
TZOFFSETFROM:+0200
TZOFFSETTO:+0100
TZNAME:CET
DTSTART:20241027T010000
END:STANDARD
BEGIN:DAYLIGHT
TZOFFSETFROM:+0100
TZOFFSETTO:+0200
TZNAME:CEST
DTSTART:20250330T010000
END:DAYLIGHT
BEGIN:STANDARD
TZOFFSETFROM:+0200
TZOFFSETTO:+0100
TZNAME:CET
DTSTART:20251026T010000
END:STANDARD
BEGIN:DAYLIGHT
TZOFFSETFROM:+0100
TZOFFSETTO:+0200
TZNAME:CEST
DTSTART:20260329T010000
END:DAYLIGHT
BEGIN:STANDARD
TZOFFSETFROM:+0200
TZOFFSETTO:+0100
TZNAME:CET
DTSTART:20261025T010000
END:STANDARD
END:VTIMEZONE
BEGIN:VEVENT
DTSTART;TZID=Europe/Paris:20250927T200000
DTEND;TZID=Europe/Paris:20250928T013000
DTSTAMP:20260421T161835
CREATED:20250616T115308Z
LAST-MODIFIED:20250616T115328Z
UID:10510-1759003200-1759023000@thespot.nl
SUMMARY:Gooische Disco Classics Party Zaterdag 27 september
DESCRIPTION:💃🕺Gooische Disco Classics Party Zaterdag 27 september 2025 🪩\nKoop nu je tickets want de vorige 6 edities waren uitverkocht \nEntree 12\,- inclusief uitgebreid Buffet Voor de prijs van een voorgerecht krijg je nu een dinerbuffet en een hele avond een geweldig feest! \nTickets online via: https://eventix.shop/32qmqadx \nStart 20:00uur en einde 02:00uur \nLeeftijd 30+ Leuk publiek. 🔝 Nieuwe mensen leren kennen. Dansen op de grootste Disco hits uit de 60s 70s 80s en 90s \nTop DJs en prachtig geluid. \nBorrelhapjes en Buffet inbegrepen \nVrij parkeren voor de deur \nThe Spot (de oudste Disco in Het Gooi) \nAdres: Wilhelminaplantsoen 17 Bussum \nMet de auto rij je een kwartiertje vanaf Amsterdam\, Almere\, Utrecht\, Amersfoort en Hilversum naar The Spot. \nMaak er een Gooisch weekend van. Voor tips zie www.visithetgooi.nl \n#thespot #discoclassics #disco #hetgooi #60s #70s #80s #90s #00
URL:https://thespot.nl/event/gooische-disco-classics-party-zaterdag-27-september/
LOCATION:The Spot
END:VEVENT
END:VCALENDAR