BEGIN:VCALENDAR
VERSION:2.0
PRODID:-//The Spot - ECPv6.15.20//NONSGML v1.0//EN
CALSCALE:GREGORIAN
METHOD:PUBLISH
X-WR-CALNAME:The Spot
X-ORIGINAL-URL:https://thespot.nl
X-WR-CALDESC:Evenementen voor The Spot
REFRESH-INTERVAL;VALUE=DURATION:PT1H
X-Robots-Tag:noindex
X-PUBLISHED-TTL:PT1H
BEGIN:VTIMEZONE
TZID:Europe/Paris
BEGIN:DAYLIGHT
TZOFFSETFROM:+0100
TZOFFSETTO:+0200
TZNAME:CEST
DTSTART:20240331T010000
END:DAYLIGHT
BEGIN:STANDARD
TZOFFSETFROM:+0200
TZOFFSETTO:+0100
TZNAME:CET
DTSTART:20241027T010000
END:STANDARD
BEGIN:DAYLIGHT
TZOFFSETFROM:+0100
TZOFFSETTO:+0200
TZNAME:CEST
DTSTART:20250330T010000
END:DAYLIGHT
BEGIN:STANDARD
TZOFFSETFROM:+0200
TZOFFSETTO:+0100
TZNAME:CET
DTSTART:20251026T010000
END:STANDARD
BEGIN:DAYLIGHT
TZOFFSETFROM:+0100
TZOFFSETTO:+0200
TZNAME:CEST
DTSTART:20260329T010000
END:DAYLIGHT
BEGIN:STANDARD
TZOFFSETFROM:+0200
TZOFFSETTO:+0100
TZNAME:CET
DTSTART:20261025T010000
END:STANDARD
END:VTIMEZONE
BEGIN:VEVENT
DTSTART;TZID=Europe/Paris:20251011T210000
DTEND;TZID=Europe/Paris:20251012T013000
DTSTAMP:20260421T145930
CREATED:20251002T124714Z
LAST-MODIFIED:20251002T140218Z
UID:10804-1760216400-1760232600@thespot.nl
SUMMARY:Vrienden feest 90s Party Zaterdag 11 oktober Vrij Entree
DESCRIPTION:Vrienden feest 90s Party Zaterdag 11 oktober Vrij Entree\nZaterdag 11 oktober organiseren we een 90’s party voor onze vrienden en gasten in The Spot in Bussum. Het Spot DJ-team met de grootste hits uit de 90s. Tijd is van 21:00uur tot 01:30uur. De entree tickets in de voorverkoop zijn gratis. Gratis Tickets via https://eventix.shop/32qmqadx \nWe willen graag vooraf weten hoeveel gasten er gaan komen. Daarom zijn tickets aan de deur €10\,-  Er is deze avond geen buffet. \nAdres: Wilhelminaplantsoen 17 Bussum \nGratis parkeren voor de deur of op parkeerterrein gemeentehuis Bussum.
URL:https://thespot.nl/event/vrienden-feest-90s-party-zaterdag-11-oktober-vrij-entree/
LOCATION:The Spot
ATTACH;FMTTYPE=image/png:https://thespot.nl/wp-content/uploads/2025/10/Vrienden-vierkant-small.png
END:VEVENT
END:VCALENDAR