BEGIN:VCALENDAR
VERSION:2.0
PRODID:-//The Spot - ECPv6.15.20//NONSGML v1.0//EN
CALSCALE:GREGORIAN
METHOD:PUBLISH
X-ORIGINAL-URL:https://thespot.nl
X-WR-CALDESC:Evenementen voor The Spot
REFRESH-INTERVAL;VALUE=DURATION:PT1H
X-Robots-Tag:noindex
X-PUBLISHED-TTL:PT1H
BEGIN:VTIMEZONE
TZID:Europe/Paris
BEGIN:DAYLIGHT
TZOFFSETFROM:+0100
TZOFFSETTO:+0200
TZNAME:CEST
DTSTART:20240331T010000
END:DAYLIGHT
BEGIN:STANDARD
TZOFFSETFROM:+0200
TZOFFSETTO:+0100
TZNAME:CET
DTSTART:20241027T010000
END:STANDARD
BEGIN:DAYLIGHT
TZOFFSETFROM:+0100
TZOFFSETTO:+0200
TZNAME:CEST
DTSTART:20250330T010000
END:DAYLIGHT
BEGIN:STANDARD
TZOFFSETFROM:+0200
TZOFFSETTO:+0100
TZNAME:CET
DTSTART:20251026T010000
END:STANDARD
BEGIN:DAYLIGHT
TZOFFSETFROM:+0100
TZOFFSETTO:+0200
TZNAME:CEST
DTSTART:20260329T010000
END:DAYLIGHT
BEGIN:STANDARD
TZOFFSETFROM:+0200
TZOFFSETTO:+0100
TZNAME:CET
DTSTART:20261025T010000
END:STANDARD
END:VTIMEZONE
BEGIN:VEVENT
DTSTART;TZID=Europe/Paris:20251018T200000
DTEND;TZID=Europe/Paris:20251019T013000
DTSTAMP:20260421T150008
CREATED:20250708T083113Z
LAST-MODIFIED:20250922T103259Z
UID:10565-1760817600-1760837400@thespot.nl
SUMMARY:Hollandse avond 18 oktober
DESCRIPTION:🎉 CLUB CONNECT PRESENTEERT: DE ALLEREERSTE HOLLANDSE AVOND! 🇳🇱\n📍 The Spot – Bussum \n📅 Zaterdag 18 oktober 2025 | 🕗 Aanvang: 20:00 uur tot 01:30 uur. \n✨ Een avond vol muziek\, emotie en échte Hollandse gezelligheid! \nClub Connect komt met een gloednieuw concept op onze vertrouwde locatie The Spot in Bussum! Op zaterdag 18 oktober 2025 gaan we terug naar de roots van het Nederlandse levenslied met de 1e editie van onze Hollandse Avond! \n🌟 LIVE: DANNY LIT \nDe rasartiest uit Almere zingt alle klassiekers van toen én nu: \n🎤 André Hazes – De koning van het levenslied \n🎤 Johnny Jordaan – Jordanees erfgoed \n🎤 Willeke & Willy Alberti\, Koos Alberts\, Zangeres Zonder Naam \n🎤 Moderne toppers als Frans Bauer\, Jannes\, Tino Martin\, Wolter Kroes\, Wesly Bronkhorst en René Froger \n💖 Sentiment\, nostalgie\, verbinding – alles komt samen in deze avond waar je met je vrienden\, familie of collega’s de liefde voor Nederland\, muziek en elkaar viert. \n🎶 Over Danny Lit \n✔️ Geboren in een muzikale familie \n✔️ Doorbraak als zingende barkeeper in ‘Cheers Almere’ \n✔️ Bekend van Cooldown Café (Hey Baby\, Met z’n allen) \n✔️ Inmiddels solo\, met hits als Sjonnie & Anita\, Vergeet Nu Maar Je Zorgen & Kleine Vogel \n✔️ Optredens op Dutch Valley\, Heineken Music Hall\, Nacht van Brabant e.v.a. \n✔️ Een zanger die feest én gevoel perfect weet te combineren 🎤🔥 \n🍗 En dat is nog niet alles! \n🎁 Voor slechts €15\,- online of €20\,- aan de deur krijg je: \n🍖 Naast een fantastische Hollandse muziekavond\, een complete BBQ. \n🥗 De BBQ\, kipsaté met bruin/wit stokbrood\, Griekse salades en watermeloen wordt u kosteloos aangeboden door de Vriendengroep Connect. Een smaakexplosie om de avond goed te beginnen – lekker én gratis! \n📍 Locatie: The Spot Bussum \nWilhelminaplantsoen 17\, 1404 JA Bussum \n🅿️ Gratis parkeren vanaf 21:00 uur. \n🚌 Goed bereikbaar met OV \n🎟️ Tickets: [Online te koop – wees er snel bij!] \n👉 Tickets link: https://eventix.shop/32qmqadx \n🧡 Samen zijn\, samen zingen\, samen trots zijn op ons Nederland! \nOf je nu uit Amsterdam\, Rotterdam\, Utrecht of Eindhoven komt – deze avond is voor iedereen die houdt van het Nederlandse levenslied\, Oranje en verbinding. \n🔁 Vanaf 2026 keren we ieder kwartaal terug met een nieuwe editie van de Hollandse Avond. Dus mis deze eerste historische avond niet! \n📢 Zorg dat je erbij bent – dit wil je meemaken! We houden van Nederland we houden van Club Connect! Waar verbinding en muziek centraal staan!
URL:https://thespot.nl/event/hollandse-avond-18-oktober/
LOCATION:The Spot
ATTACH;FMTTYPE=image/png:https://thespot.nl/wp-content/uploads/2025/07/Hollandse-avond-New-small.png
END:VEVENT
END:VCALENDAR