BEGIN:VCALENDAR
VERSION:2.0
PRODID:-//The Spot - ECPv6.15.20//NONSGML v1.0//EN
CALSCALE:GREGORIAN
METHOD:PUBLISH
X-WR-CALNAME:The Spot
X-ORIGINAL-URL:https://thespot.nl
X-WR-CALDESC:Evenementen voor The Spot
REFRESH-INTERVAL;VALUE=DURATION:PT1H
X-Robots-Tag:noindex
X-PUBLISHED-TTL:PT1H
BEGIN:VTIMEZONE
TZID:Europe/Paris
BEGIN:DAYLIGHT
TZOFFSETFROM:+0100
TZOFFSETTO:+0200
TZNAME:CEST
DTSTART:20240331T010000
END:DAYLIGHT
BEGIN:STANDARD
TZOFFSETFROM:+0200
TZOFFSETTO:+0100
TZNAME:CET
DTSTART:20241027T010000
END:STANDARD
BEGIN:DAYLIGHT
TZOFFSETFROM:+0100
TZOFFSETTO:+0200
TZNAME:CEST
DTSTART:20250330T010000
END:DAYLIGHT
BEGIN:STANDARD
TZOFFSETFROM:+0200
TZOFFSETTO:+0100
TZNAME:CET
DTSTART:20251026T010000
END:STANDARD
BEGIN:DAYLIGHT
TZOFFSETFROM:+0100
TZOFFSETTO:+0200
TZNAME:CEST
DTSTART:20260329T010000
END:DAYLIGHT
BEGIN:STANDARD
TZOFFSETFROM:+0200
TZOFFSETTO:+0100
TZNAME:CET
DTSTART:20261025T010000
END:STANDARD
END:VTIMEZONE
BEGIN:VEVENT
DTSTART;TZID=Europe/Paris:20251101T200000
DTEND;TZID=Europe/Paris:20251102T010000
DTSTAMP:20260421T133839
CREATED:20250611T113943Z
LAST-MODIFIED:20250928T143333Z
UID:10501-1762027200-1762045200@thespot.nl
SUMMARY:SOULVIBRATION Live band zaterdag 1 november
DESCRIPTION:SOULVIBRATION Live band zaterdag 1 november vanaf 20:00uur\nOnder het motto “KEEP THE SOUL ALIVE” werd in 2014 de band SOULVIBRATION opgericht. Sindsdien heeft de band een indrukwekkende reputatie opgebouwd en weet het overal waar ze optreden enthousiaste reacties los te maken. \nTickets via https://weeztix.shop/32qmqadx \nDe muziek van SOULVIBRATION heeft een bijzondere aantrekkingskracht en neemt je mee op een muzikale reis. Het is een heerlijke mix van “LEKKERE OLD SCHOOL SOUL” die een helende werking heeft op de meest stramme ledematen. \nDe 12-koppige band met maar liefst 4 getalenteerde zangeressen\, een trombonist\, 3 saxofonisten\, een gitarist\, een piano player\, een bassist en een drummer zorgt de band voor een swingende show die het publiek een onvergetelijke ervaring bezorgt. Bovendien weten ze elke locatie waar ze optreden\, om te toveren tot een ware soultempel. \nSoulvibration speelt voornamelijk soulmuziek uit de jaren 60/70. Deze tijdloze klassiekers brengen de sfeer van toen weer tot leven en zorgen ervoor dat het publiek niet stil kan blijven zitten. De energie en passie spat van het podium af en raakt het hart van iedere soulliefhebber. \nWat SOULVIBRATION uniek maakt\, is de combinatie van talent en het enthousiasme van de bandleden. Elk optreden is een feestje waarbij de bandleden zich volledig geven en daarmee de muziek echt tot leven brengen. Het is duidelijk dat ze\, bandleden jong en oud\, een diepe liefde hebben voor die prachtige soulmuziek en die liefde delen met het publiek. \nOf je nu een fervent liefhebber bent van soulmuziek of gewoon op zoek bent naar een geweldige middag of avond uit\, SOULVIBRATION is een absolute aanrader. De band weet als geen ander hoe ze het publiek kunnen betoveren met hun muzikaliteit en energie. Het is een ervaring die je niet wilt missen. \nSOULVIBRATION: Een onvergetelijke soulervaring die je ziel doet trillen van vreugde en je hart gaat vullen met passie.
URL:https://thespot.nl/event/soulvibration-live-band-zaterdag-1-november/
LOCATION:The Spot
ATTACH;FMTTYPE=image/png:https://thespot.nl/wp-content/uploads/2025/06/Soulvibration-vierkant.png
END:VEVENT
END:VCALENDAR