BEGIN:VCALENDAR
VERSION:2.0
PRODID:-//The Spot - ECPv6.15.20//NONSGML v1.0//EN
CALSCALE:GREGORIAN
METHOD:PUBLISH
X-WR-CALNAME:The Spot
X-ORIGINAL-URL:https://thespot.nl
X-WR-CALDESC:Evenementen voor The Spot
REFRESH-INTERVAL;VALUE=DURATION:PT1H
X-Robots-Tag:noindex
X-PUBLISHED-TTL:PT1H
BEGIN:VTIMEZONE
TZID:Europe/Paris
BEGIN:DAYLIGHT
TZOFFSETFROM:+0100
TZOFFSETTO:+0200
TZNAME:CEST
DTSTART:20240331T010000
END:DAYLIGHT
BEGIN:STANDARD
TZOFFSETFROM:+0200
TZOFFSETTO:+0100
TZNAME:CET
DTSTART:20241027T010000
END:STANDARD
BEGIN:DAYLIGHT
TZOFFSETFROM:+0100
TZOFFSETTO:+0200
TZNAME:CEST
DTSTART:20250330T010000
END:DAYLIGHT
BEGIN:STANDARD
TZOFFSETFROM:+0200
TZOFFSETTO:+0100
TZNAME:CET
DTSTART:20251026T010000
END:STANDARD
BEGIN:DAYLIGHT
TZOFFSETFROM:+0100
TZOFFSETTO:+0200
TZNAME:CEST
DTSTART:20260329T010000
END:DAYLIGHT
BEGIN:STANDARD
TZOFFSETFROM:+0200
TZOFFSETTO:+0100
TZNAME:CET
DTSTART:20261025T010000
END:STANDARD
END:VTIMEZONE
BEGIN:VEVENT
DTSTART;TZID=Europe/Paris:20251128T200000
DTEND;TZID=Europe/Paris:20251129T013000
DTSTAMP:20260421T121528
CREATED:20251013T142433Z
LAST-MODIFIED:20251021T114909Z
UID:10833-1764360000-1764379800@thespot.nl
SUMMARY:Gooische Disco Classics Party Vrijdag 28 november
DESCRIPTION:Gooische Disco Classics Party Vrijdag 28 november\nOp vrijdag 28 november is de Gooische Disco Classics Party in de Gooise Discotheek The Spot in Bussum\, Het feest is niet alleen voor Gooise vrouwen en mannen\, \, maar publiek uit heel Nederland komt naar onze parties. Top DJs draaien de grootste hits uit de 70s 80s en 90s\, Tickets zijn 15 euro inclusief een uitgebreid buffet \, Voor de prijs van een voorgerecht krijg je nu een compleet buffet en een top avond ..De vorige edities waren uitverkocht dus koop nu je tickets! Ticketlink: https://eventix.shop/32qmqadx
URL:https://thespot.nl/event/gooische-disco-classics-party-vrijdag-28-november/
LOCATION:The Spot
ATTACH;FMTTYPE=image/png:https://thespot.nl/wp-content/uploads/2025/10/Classics-28nov25.png
END:VEVENT
END:VCALENDAR