BEGIN:VCALENDAR
VERSION:2.0
PRODID:-//The Spot - ECPv6.15.20//NONSGML v1.0//EN
CALSCALE:GREGORIAN
METHOD:PUBLISH
X-ORIGINAL-URL:https://thespot.nl
X-WR-CALDESC:Evenementen voor The Spot
REFRESH-INTERVAL;VALUE=DURATION:PT1H
X-Robots-Tag:noindex
X-PUBLISHED-TTL:PT1H
BEGIN:VTIMEZONE
TZID:Europe/Paris
BEGIN:DAYLIGHT
TZOFFSETFROM:+0100
TZOFFSETTO:+0200
TZNAME:CEST
DTSTART:20240331T010000
END:DAYLIGHT
BEGIN:STANDARD
TZOFFSETFROM:+0200
TZOFFSETTO:+0100
TZNAME:CET
DTSTART:20241027T010000
END:STANDARD
BEGIN:DAYLIGHT
TZOFFSETFROM:+0100
TZOFFSETTO:+0200
TZNAME:CEST
DTSTART:20250330T010000
END:DAYLIGHT
BEGIN:STANDARD
TZOFFSETFROM:+0200
TZOFFSETTO:+0100
TZNAME:CET
DTSTART:20251026T010000
END:STANDARD
BEGIN:DAYLIGHT
TZOFFSETFROM:+0100
TZOFFSETTO:+0200
TZNAME:CEST
DTSTART:20260329T010000
END:DAYLIGHT
BEGIN:STANDARD
TZOFFSETFROM:+0200
TZOFFSETTO:+0100
TZNAME:CET
DTSTART:20261025T010000
END:STANDARD
END:VTIMEZONE
BEGIN:VEVENT
DTSTART;TZID=Europe/Paris:20251219T180000
DTEND;TZID=Europe/Paris:20251220T010000
DTSTAMP:20260421T143250
CREATED:20250922T085113Z
LAST-MODIFIED:20250928T143213Z
UID:10757-1766167200-1766192400@thespot.nl
SUMMARY:Meet5 Kerstborrel Vrijdag 19 december
DESCRIPTION:Meet5 kerstborrel in The Spot vrijdag 19 december vanaf 18:00uur\nEen gezellige borrel om de andere Meet5 leden te ontmoeten in de oudste Disco in Het Gooi die voor de Kerstdagen in Kerstsfeer is versierd. Onder genot van een drankje en een borrelhap met leuke mensen kennis te maken. In The Spot is een lounge gedeelte waar je kunt zitten. Er is een gedeelte waar de muziek niet te hard is en waar je goed met elkaar kan praten. Je kunt dansen bij de dansvloer waar de muziek luider is. De bekende Gooische DJ’s Martin en Arno verzorgen de muziek en draaien een mengelmoes voor elk wat wils en je kunt verzoekjes aanvragen. Er worden foto’s gemaakt en die verschijnen direct op alle beeldschermen in The Spot. En als je niet op de foto wilt kun je dat meteen aangeven aan de fotograaf. Er is een uitgebreid buffet dus je kunt direct vanuit je werk door naar The Spot om te eten.De entree is 15\,- incl Buffet en de hele avond feest. En je kunt er ook een Gooisch weekend van maken. Voor tips zie www.visithetgooi.nl \nEntreetickets zijn online te boeken voor 15 euro via https://eventix.shop/32qmqadx
URL:https://thespot.nl/event/meet5-kerstborrel-vrijdag-19-december/
LOCATION:The Spot
ATTACH;FMTTYPE=image/jpeg:https://thespot.nl/wp-content/uploads/2025/09/Meet5-Kertsborrel.jpg
END:VEVENT
END:VCALENDAR