BEGIN:VCALENDAR
VERSION:2.0
PRODID:-//The Spot - ECPv6.15.20//NONSGML v1.0//EN
CALSCALE:GREGORIAN
METHOD:PUBLISH
X-WR-CALNAME:The Spot
X-ORIGINAL-URL:https://thespot.nl
X-WR-CALDESC:Evenementen voor The Spot
REFRESH-INTERVAL;VALUE=DURATION:PT1H
X-Robots-Tag:noindex
X-PUBLISHED-TTL:PT1H
BEGIN:VTIMEZONE
TZID:Europe/Paris
BEGIN:DAYLIGHT
TZOFFSETFROM:+0100
TZOFFSETTO:+0200
TZNAME:CEST
DTSTART:20240331T010000
END:DAYLIGHT
BEGIN:STANDARD
TZOFFSETFROM:+0200
TZOFFSETTO:+0100
TZNAME:CET
DTSTART:20241027T010000
END:STANDARD
BEGIN:DAYLIGHT
TZOFFSETFROM:+0100
TZOFFSETTO:+0200
TZNAME:CEST
DTSTART:20250330T010000
END:DAYLIGHT
BEGIN:STANDARD
TZOFFSETFROM:+0200
TZOFFSETTO:+0100
TZNAME:CET
DTSTART:20251026T010000
END:STANDARD
BEGIN:DAYLIGHT
TZOFFSETFROM:+0100
TZOFFSETTO:+0200
TZNAME:CEST
DTSTART:20260329T010000
END:DAYLIGHT
BEGIN:STANDARD
TZOFFSETFROM:+0200
TZOFFSETTO:+0100
TZNAME:CET
DTSTART:20261025T010000
END:STANDARD
END:VTIMEZONE
BEGIN:VEVENT
DTSTART;TZID=Europe/Paris:20251226T180000
DTEND;TZID=Europe/Paris:20251227T010000
DTSTAMP:20260421T104331
CREATED:20250911T131520Z
LAST-MODIFIED:20250911T131520Z
UID:10728-1766772000-1766797200@thespot.nl
SUMMARY:Kerstbuffet en Kerstfeest 2e Kerstdag Vrijdag 26 december
DESCRIPTION:Kerstbuffet en Kerstfeest 2e Kerstdag\nVrijdag 26 december is het Kerstfeest in The Spot in Bussum \nHet event wordt georganiseerd door Club Connect en The Spot \nJe bent welkom vanaf 18:00uur. Het overheerlijke Kerstbuffet wordt verzorgd door Chefkok Dirk-Jan \nHet Spot-DJ-team zorgt voor de dansmuziek zodat we na het buffet lekker kunnen losgaan op de dansvloer. \nHet feest duurt tot 01:00ur. De minimale leeftijd is 25 jaar. \nVoor 30 euro krijg je een heerlijk  Kerstbuffet en een avond feestplezier! Waar kun je tegenwoordig nog voor 30\,- dineren met de Kerst? \nTickets zijn online verkrijgbaar via https://eventix.shop/32qmqadx
URL:https://thespot.nl/event/kerstbuffet-en-kerstfeest-2e-kerstdag-vrijdag-26-december/
LOCATION:The Spot
ATTACH;FMTTYPE=image/png:https://thespot.nl/wp-content/uploads/2025/09/Kerst-Connect-small.png
END:VEVENT
END:VCALENDAR