BEGIN:VCALENDAR
VERSION:2.0
PRODID:-//The Spot - ECPv6.15.20//NONSGML v1.0//EN
CALSCALE:GREGORIAN
METHOD:PUBLISH
X-WR-CALNAME:The Spot
X-ORIGINAL-URL:https://thespot.nl
X-WR-CALDESC:Evenementen voor The Spot
REFRESH-INTERVAL;VALUE=DURATION:PT1H
X-Robots-Tag:noindex
X-PUBLISHED-TTL:PT1H
BEGIN:VTIMEZONE
TZID:Europe/Paris
BEGIN:DAYLIGHT
TZOFFSETFROM:+0100
TZOFFSETTO:+0200
TZNAME:CEST
DTSTART:20180325T010000
END:DAYLIGHT
BEGIN:STANDARD
TZOFFSETFROM:+0200
TZOFFSETTO:+0100
TZNAME:CET
DTSTART:20181028T010000
END:STANDARD
BEGIN:DAYLIGHT
TZOFFSETFROM:+0100
TZOFFSETTO:+0200
TZNAME:CEST
DTSTART:20190331T010000
END:DAYLIGHT
BEGIN:STANDARD
TZOFFSETFROM:+0200
TZOFFSETTO:+0100
TZNAME:CET
DTSTART:20191027T010000
END:STANDARD
BEGIN:DAYLIGHT
TZOFFSETFROM:+0100
TZOFFSETTO:+0200
TZNAME:CEST
DTSTART:20200329T010000
END:DAYLIGHT
BEGIN:STANDARD
TZOFFSETFROM:+0200
TZOFFSETTO:+0100
TZNAME:CET
DTSTART:20201025T010000
END:STANDARD
END:VTIMEZONE
BEGIN:VEVENT
DTSTART;TZID=Europe/Paris:20191201T153000
DTEND;TZID=Europe/Paris:20191201T190000
DTSTAMP:20260420T033037
CREATED:20191121T205438Z
LAST-MODIFIED:20191121T205438Z
UID:625-1575214200-1575226800@thespot.nl
SUMMARY:Foute Kerst Bingo
DESCRIPTION:Muzikale Kerstbingo. \nDragQueen Rose Murphy presenteert de muzikale Bingo. Ze zingt en danst. De gasten moeten de geluidsfragmenten herkennen. Er zijn 3 rondes van een uur en er zijn 9 prijzen te winnen plus een prijs voor de best geklede deelnemer(ster). De Kerstbingo is zondagmiddag 1 december en begint om 16:00uur. Zaal open 15:00uur. Dresscode is Kerst. Dus zet een kerstmuts op of doe een dennentak of Kerstbal in je haar. Entree en bingo-boekje is 25\,- en online verkrijgbaar via https://www.eventbrite.nl/e/tickets-foute-muzikale-kerstbingo-82989159811
URL:https://thespot.nl/event/foute-kerst-bingo/
LOCATION:The Spot\, Wilhelminaplantsoen 17\, Bussum\, 1404JA
ORGANIZER;CN="Naamloos Organisator":MAILTO:thespotbussum@gmail.com
END:VEVENT
BEGIN:VEVENT
DTSTART;TZID=Europe/Paris:20191129T210000
DTEND;TZID=Europe/Paris:20191130T010000
DTSTAMP:20260420T033037
CREATED:20191008T100652Z
LAST-MODIFIED:20191008T101856Z
UID:614-1575061200-1575075600@thespot.nl
SUMMARY:Bussum Live
DESCRIPTION:Vrijdag 29 november is Bussum Live in The Spot \nmet optredens van Georges Lotze (Neil Diamond in The Voice: https://www.youtube.com/watch?v=KGBtdWiAPyQ) \nen Johan Kettenburg \n \nEen feestavond om te kijken en luisteren naar de artiesten\, om te dansen en om leuke mensen te ontmoeten. De avond begint om 21:00uur en eindigt om 01:00uur. De voorverkoopprijs is 10\,- incl welkomstdrankje. Indien er aan de deur op de avond zelf nog kaartjes beschikbaar zijn is de deurprijs 15\,- Vanaf 21:00 uur vrij parkeren op het Wilhelminaplantsoen 17 Bussum of op loopafstand bij het Gemeentehuis. De looptijd naar station Naarden-Bussum is 7 minuten. The Spot is met de auto vanaf Amsterdam en Almere in 15 minuten bereikbaar.
URL:https://thespot.nl/event/bussum-live/
END:VEVENT
END:VCALENDAR