BEGIN:VCALENDAR
VERSION:2.0
PRODID:-//The Spot - ECPv6.15.20//NONSGML v1.0//EN
CALSCALE:GREGORIAN
METHOD:PUBLISH
X-ORIGINAL-URL:https://thespot.nl
X-WR-CALDESC:Evenementen voor The Spot
REFRESH-INTERVAL;VALUE=DURATION:PT1H
X-Robots-Tag:noindex
X-PUBLISHED-TTL:PT1H
BEGIN:VTIMEZONE
TZID:Europe/Paris
BEGIN:DAYLIGHT
TZOFFSETFROM:+0100
TZOFFSETTO:+0200
TZNAME:CEST
DTSTART:20240331T010000
END:DAYLIGHT
BEGIN:STANDARD
TZOFFSETFROM:+0200
TZOFFSETTO:+0100
TZNAME:CET
DTSTART:20241027T010000
END:STANDARD
BEGIN:DAYLIGHT
TZOFFSETFROM:+0100
TZOFFSETTO:+0200
TZNAME:CEST
DTSTART:20250330T010000
END:DAYLIGHT
BEGIN:STANDARD
TZOFFSETFROM:+0200
TZOFFSETTO:+0100
TZNAME:CET
DTSTART:20251026T010000
END:STANDARD
BEGIN:DAYLIGHT
TZOFFSETFROM:+0100
TZOFFSETTO:+0200
TZNAME:CEST
DTSTART:20260329T010000
END:DAYLIGHT
BEGIN:STANDARD
TZOFFSETFROM:+0200
TZOFFSETTO:+0100
TZNAME:CET
DTSTART:20261025T010000
END:STANDARD
END:VTIMEZONE
BEGIN:VEVENT
DTSTART;TZID=Europe/Paris:20250912T200000
DTEND;TZID=Europe/Paris:20250913T013000
DTSTAMP:20260421T150022
CREATED:20250709T103042Z
LAST-MODIFIED:20250709T103951Z
UID:10579-1757707200-1757727000@thespot.nl
SUMMARY:Club Connect Vrijdag 12 september
DESCRIPTION:🎧✨ CLUB CONNECT met DJ MILLA MORE – 12 SEPTEMBER 2025 @ THE SPOT\, BUSSUM ✨🎧\nNa haar verpletterende debuut op 5 juli is ze terug… maar dit keer in de hoofdrol. Helemaal solo. Helemaal Milla. En helemaal vrouwelijk vuurwerk. \n💃 DJ Milla More – jong\, energiek\, stijlvol en zó veel meer dan alleen een opkomend talent. Deze vrouwelijke krachtpatser achter de draaitafels brengt beats met een verfijnde touch\, sensuele ritmes en een aanstekelijke energie die je de hele nacht laat dansen. Met haar vrouwelijke flair\, strakke overgangen en feilloos gevoel voor sfeer\, laat Milla zien dat ze niet alleen meedoet – ze zet de toon. \n🪩 Op 5 juli draaide ze het eerste deel van het programma bij Club Connect met DJ Jean en… BAM! Iedereen die erbij was\, weet het: Milla More stal de show. Haar set was ritmisch\, pittig en onweerstaanbaar funky. Het publiek was het unaniem eens: dit smaakte naar méér. En meer komt er – op 12 september staat DJ Milla More er helemaal alleen voor. En geloof ons: dat wordt allesbehalve rustig. \n🌟 Club Connect x Milla More = Girl Power op z’n best.\nOf je nu komt voor de dansvloer\, de vibes\, de mensen of gewoon om te zien hoe deze jonge vrouwelijke DJ The Spot in vuur en vlam zet – dit wil je niet missen. \n🥗 De BBQ\, kipsaté met bruin/wit stokbrood\, Griekse salades en watermeloen wordt u kosteloos aangeboden door de Vriendengroep Connect. Een zomerse smaakexplosie om de avond goed te beginnen – lekker én gratis! \n🎶 Verwacht:\n✔️ Femme fatale beats\n✔️ Funky grooves & elektronische finesse\n✔️ Vrouwelijke energie die de vloer laat koken\n✔️ De sfeer van Club Connect zoals je die kent – warm\, gezellig\, uitbundig \n📍 Waar: The Spot\, Bussum\, Wilhelminaplantsoen 17\, 1404 JA Bussum\n📅 Wanneer: Vrijdagavond 12 september 2025\n🕘 Tijd: vanaf 20:00 uur tot 02:00 uur.\n🎟️ Tickets: → Online: € 15\,- → Aan de deur: € 20\,-\n🔗 Online tickets via: https://eventix.shop/32qmqadx \n🚀 Milla More is here to stay – en dat hebben we bij Club Connect goed begrepen. Sterker nog: ze is al geboekt voor meerdere edities in 2026. Maar waarom wachten? Dit is jouw kans om haar van dichtbij te ervaren terwijl haar ster al behoorlijk begint te stijgen. \nLadies first. En deze dame overtreft alles.\n👠💥 See you on the dancefloor!
URL:https://thespot.nl/event/club-connect-vrijdag-12-september/
LOCATION:The Spot
END:VEVENT
BEGIN:VEVENT
DTSTART;TZID=Europe/Paris:20250913T200000
DTEND;TZID=Europe/Paris:20250914T010000
DTSTAMP:20260421T150022
CREATED:20250524T131204Z
LAST-MODIFIED:20250524T131415Z
UID:10413-1757793600-1757811600@thespot.nl
SUMMARY:OnlySingles Single party 13 september
DESCRIPTION:Zaterdag 13 september is Only Singles in de Gooische Discotheek The Spot in Bussum.  \nHet feest begint om 20:00uur en eindigt om 01:00uur. Er zijn 4 verschillende tickets te koop: \nMan 25 – 40 jaar \nVrouw 25 – 40 jaar \nMan 40+ \nVrouw 40+ \nDe tickets kosten 15\,- en zijn online te stellen via: https://eventix.shop/32qmqadx \nEr zijn borrelhapjes. Er is een lange bar\, een lounge-zit-gedeelte en een dansvloer. Het Gooische DJ-team draait de beste disco-hits en hoofdzakelijk Disco-Classics uit de 70s 80s 90s en 00s. \nEr is een bewaakte garderobe. Vrij parkeren voor de deur. The Spot ligt centraal in Nederland. De rijafstand vanaf Amsterdam\, Almere\, Amersfoort\, Utrecht\, Hilversum is 15 minuten. De loopafstand naar Station Naarden-Bussum is 7 minuten. Er zijn diverse hotels in de omgeving om er een leuk Goois weekend van te maken. Tips zie je op de website www.visithetgooi.nl
URL:https://thespot.nl/event/onlysingles-single-party-13-september/
LOCATION:The Spot
END:VEVENT
BEGIN:VEVENT
DTSTART;TZID=Europe/Paris:20250926T200000
DTEND;TZID=Europe/Paris:20250927T010000
DTSTAMP:20260421T150022
CREATED:20250610T082505Z
LAST-MODIFIED:20250611T084820Z
UID:10487-1758916800-1758934800@thespot.nl
SUMMARY:SOULMACHINE 9-koppige Live band 26 september
DESCRIPTION:Soulmachine Live in The Spot ! Vrijdag 26-september’25\nSoulband met Soul & Funk uit de jaren ’60 en ‘70 \nTickets 12\,50  online via https://weeztix.shop/32qmqadx \nEen betere naam had deze negenkoppige soulformatie niet voor zichzelf kunnen bedenken\, want een soulmachine is het! Deze ervaren en vakkundige soulband bestaat uit twee steengoede zangeressen\, een strakke ritmesectie bestaande uit gitaar\, bas\, drums en toetsen én een krachtige blazerssectie bestaande uit altsax\, trompet\, en trombone. Soulmachine speelt authentieke soul en funk met onvergetelijke hits van o.a. Otis Redding\, Stevie Wonder\, Aretha Franklin en Tina Turner. \nSoulmachine zet elke zaal op z’n kop met dansbare funk en dampende soul. Als Soulmachine optreedt\, gaat het dak eraf. De muziek dwingt je simpelweg tot dansen. Dof je dus weer lekker op en trek vooral gemakkelijke schoenen aan\, want Soulmachine belooft een stomende\, dampend funky optreden vol met de lekkerste soul!
URL:https://thespot.nl/event/soulmachine-9-koppige-live-band-26-september/
LOCATION:The Spot
END:VEVENT
BEGIN:VEVENT
DTSTART;TZID=Europe/Paris:20250927T200000
DTEND;TZID=Europe/Paris:20250928T013000
DTSTAMP:20260421T150022
CREATED:20250616T115308Z
LAST-MODIFIED:20250616T115328Z
UID:10510-1759003200-1759023000@thespot.nl
SUMMARY:Gooische Disco Classics Party Zaterdag 27 september
DESCRIPTION:💃🕺Gooische Disco Classics Party Zaterdag 27 september 2025 🪩\nKoop nu je tickets want de vorige 6 edities waren uitverkocht \nEntree 12\,- inclusief uitgebreid Buffet Voor de prijs van een voorgerecht krijg je nu een dinerbuffet en een hele avond een geweldig feest! \nTickets online via: https://eventix.shop/32qmqadx \nStart 20:00uur en einde 02:00uur \nLeeftijd 30+ Leuk publiek. 🔝 Nieuwe mensen leren kennen. Dansen op de grootste Disco hits uit de 60s 70s 80s en 90s \nTop DJs en prachtig geluid. \nBorrelhapjes en Buffet inbegrepen \nVrij parkeren voor de deur \nThe Spot (de oudste Disco in Het Gooi) \nAdres: Wilhelminaplantsoen 17 Bussum \nMet de auto rij je een kwartiertje vanaf Amsterdam\, Almere\, Utrecht\, Amersfoort en Hilversum naar The Spot. \nMaak er een Gooisch weekend van. Voor tips zie www.visithetgooi.nl \n#thespot #discoclassics #disco #hetgooi #60s #70s #80s #90s #00
URL:https://thespot.nl/event/gooische-disco-classics-party-zaterdag-27-september/
LOCATION:The Spot
END:VEVENT
END:VCALENDAR